BEGIN:VCALENDAR
VERSION:2.0
PRODID:-//IARA - ECPv6.1.4//NONSGML v1.0//EN
CALSCALE:GREGORIAN
METHOD:PUBLISH
X-ORIGINAL-URL:https://iara-argentina.com
X-WR-CALDESC:Eventos para IARA
REFRESH-INTERVAL;VALUE=DURATION:PT1H
X-Robots-Tag:noindex
X-PUBLISHED-TTL:PT1H
BEGIN:VTIMEZONE
TZID:America/Argentina/Buenos_Aires
BEGIN:STANDARD
TZOFFSETFROM:-0300
TZOFFSETTO:-0300
TZNAME:-03
DTSTART:20260101T000000
END:STANDARD
END:VTIMEZONE
BEGIN:VEVENT
DTSTART;VALUE=DATE:20260420
DTEND;VALUE=DATE:20260508
DTSTAMP:20260424T130815
CREATED:20260411T203016Z
LAST-MODIFIED:20260411T203016Z
UID:19931-1776643200-1778198399@iara-argentina.com
SUMMARY:ACTIVIDADES POR EL 111° ANIVERSARIO DEL GENOCIDIO ARMENIO . COLECTIVIDAD ARMENIA DE CORDOBA
DESCRIPTION:
URL:https://iara-argentina.com/evento/actividades-por-el-111-aniversario-del-genocidio-armenio-colectividad-armenia-de-cordoba/
LOCATION:CORDOBA\, Córdoba\, Córdoba
CATEGORIES:Acto
ATTACH;FMTTYPE=image/jpeg:https://iara-argentina.com/wp-content/uploads/2026/04/WhatsApp-Image-2026-04-11-at-16.51.42.jpeg
END:VEVENT
BEGIN:VEVENT
DTSTART;TZID=America/Argentina/Buenos_Aires:20260420T173000
DTEND;TZID=America/Argentina/Buenos_Aires:20260420T173000
DTSTAMP:20260424T130815
CREATED:20260411T031445Z
LAST-MODIFIED:20260412T005548Z
UID:19906-1776706200-1776706200@iara-argentina.com
SUMMARY:Muestra fotográfica ¨La mirada del adiós¨
DESCRIPTION:Muestra fotográfica de la fotógrafa Araz Hadjian con la intervención artística de Alejandra Sarkissian
URL:https://iara-argentina.com/evento/muestra-fotografica-%c2%a8la-mirada-del-adios%c2%a8/
LOCATION:Legislatura\, Hall de Honor\, Perú 160\, CABA
CATEGORIES:Cultura
ATTACH;FMTTYPE=image/jpeg:https://iara-argentina.com/wp-content/uploads/2026/04/WhatsApp-Image-2026-04-09-at-19.28.02-1.jpeg
END:VEVENT
BEGIN:VEVENT
DTSTART;TZID=America/Argentina/Buenos_Aires:20260423T110000
DTEND;TZID=America/Argentina/Buenos_Aires:20260426T180000
DTSTAMP:20260424T130815
CREATED:20260413T171418Z
LAST-MODIFIED:20260413T171418Z
UID:19979-1776942000-1777226400@iara-argentina.com
SUMMARY:"Fragmentos de Identidad: Explorando la Diáspora Armenia a través del Arte del Mosaico"\, Proyecto Educativo 2025
DESCRIPTION:La Fundación Luisa Hairabedian los invita a la inauguración de «Fragmentos de Identidad: Explorando la Diáspora Armenia a través del Arte del Mosaico»\, Proyecto Educativo 2025. \nLa muestra reúne 40 obras de mosaiquismo realizadas por más de 300 estudiantes secundarios de escuelas armenias y no armenias del AMBA\, Córdoba y Tucumán. El proyecto\, realizado con el auspicio de la Fundación Calouste Gulbenkian\, abordó la diáspora armenia como proceso cultural dinámico\, usando el mosaico como herencia cultural y metáfora visual de las identidades diaspóricas. \nLa apertura el 23 de abril en el MUNTREF – Museo de la Inmigración se realiza en vísperas del Día de la Memoria del Genocidio Armenio\, en el museo que narra la llegada de los armenios a la Argentina. \nInauguración: 23 de abril a las 11:30 hs\nVisita: 23 al 26 de abril · 11 a 18 hs · Entrada libre y gratuita\nLugar: MUNTREF – Av. Antártida Argentina s/n\, CABA
URL:https://iara-argentina.com/evento/fragmentos-de-identidad-explorando-la-diaspora-armenia-a-traves-del-arte-del-mosaico-proyecto-educativo-2025/
LOCATION:Museo de la Inmigración-MUNTREF\, Av. Antártida Argentina s/n\, CABA\, Argentina
CATEGORIES:Cultura
ATTACH;FMTTYPE=image/jpeg:https://iara-argentina.com/wp-content/uploads/2026/04/0.jpg
END:VEVENT
BEGIN:VEVENT
DTSTART;VALUE=DATE:20260424
DTEND;VALUE=DATE:20260425
DTSTAMP:20260424T130815
CREATED:20260411T224943Z
LAST-MODIFIED:20260412T004653Z
UID:19949-1776988800-1777075199@iara-argentina.com
SUMMARY:GENOCIDIO QUE SE NIEGA\, GENOCIDIO QUE SE REPITE
DESCRIPTION:
URL:https://iara-argentina.com/evento/genocidio-que-se-nega-genocidio-que-se-repite/
LOCATION:Catedral San Gregorio El Iluminador\, Armenia 1359\, Ciudad Autónoma de Buenos Aires\, Argentina
CATEGORIES:Acto
ATTACH;FMTTYPE=image/jpeg:https://iara-argentina.com/wp-content/uploads/2026/04/WhatsApp-Image-2026-04-11-at-20.53.40.jpeg
END:VEVENT
BEGIN:VEVENT
DTSTART;TZID=America/Argentina/Buenos_Aires:20260424T093000
DTEND;TZID=America/Argentina/Buenos_Aires:20260424T093000
DTSTAMP:20260424T130815
CREATED:20260411T041322Z
LAST-MODIFIED:20260411T041322Z
UID:19911-1777023000-1777023000@iara-argentina.com
SUMMARY:Acto en Conmemoración del Genocidio Armenio
DESCRIPTION:
URL:https://iara-argentina.com/evento/acto-en-conmemoracion-del-genocidio-armenio/
LOCATION:La Plata\, Jachkar 14 y av. 53\, La Plata\, Argentina
CATEGORIES:Acto
ATTACH;FMTTYPE=image/jpeg:https://iara-argentina.com/wp-content/uploads/2026/04/WhatsApp-Image-2026-04-10-at-13.42.42.jpeg
END:VEVENT
BEGIN:VEVENT
DTSTART;TZID=America/Argentina/Buenos_Aires:20260424T173000
DTEND;TZID=America/Argentina/Buenos_Aires:20260424T173000
DTSTAMP:20260424T130815
CREATED:20260411T041850Z
LAST-MODIFIED:20260411T041850Z
UID:19915-1777051800-1777051800@iara-argentina.com
SUMMARY:Acto en Conmemoración del Genocidio Armenio
DESCRIPTION:
URL:https://iara-argentina.com/evento/acto-en-conmemoracion-del-genocidio-armenio-2/
LOCATION:Berisso\, Rotary Club 165 e/ 8 y 9 #618\, Berisso\, Argentina
CATEGORIES:Acto
ATTACH;FMTTYPE=image/jpeg:https://iara-argentina.com/wp-content/uploads/2026/04/WhatsApp-Image-2026-04-10-at-13.42.42.jpeg
END:VEVENT
BEGIN:VEVENT
DTSTART;TZID=America/Argentina/Buenos_Aires:20260424T180000
DTEND;TZID=America/Argentina/Buenos_Aires:20260424T180000
DTSTAMP:20260424T130815
CREATED:20260415T005923Z
LAST-MODIFIED:20260415T005923Z
UID:19998-1777053600-1777053600@iara-argentina.com
SUMMARY:EXHIBICIÓN DE LA PELICULA "AMERICATSI" DIRIGIDA POR MICHAEL GOORJIAN
DESCRIPTION: Exhibición de «Amerikatsi» Dirigida por Michael Goorjian \nLa primera película Armenia  que fue  preseleccionada para los Premios Oscar\, haciendo su ingreso oficial en la prestigiosa shortlist de la Academia. \nEn el marco del 24 de abril\, «Día de Acción por la Tolerancia y el Respeto entre\nlos Pueblos»\, la Cátedra Armenia y el Centro de Estudios Armenios de la\nUniversidad Nacional de Rosario (UNR) anuncian una función especial de cine\nal cumplirse 111 años del genocidio contra el pueblo armenio.\nEvento abierto a la comunidad y gratuito:\nViernes 24 de abril   a las 18hs \nEl Cairo Cine Público\nSanta Fe 1120 – Rosario \n 
URL:https://iara-argentina.com/evento/exhibicion-de-la-pelicula-americatsi-dirigida-por-michael-goorjian/
LOCATION:El Cairo cine público\, Santa Fe 1120\, Rosario\, Argentina
CATEGORIES:Cultura
ATTACH;FMTTYPE=image/jpeg:https://iara-argentina.com/wp-content/uploads/2026/04/Diseno-sin-titulo-5.jpg
END:VEVENT
BEGIN:VEVENT
DTSTART;TZID=America/Argentina/Buenos_Aires:20260424T190000
DTEND;TZID=America/Argentina/Buenos_Aires:20260424T190000
DTSTAMP:20260424T130815
CREATED:20260414T012336Z
LAST-MODIFIED:20260414T012336Z
UID:19986-1777057200-1777057200@iara-argentina.com
SUMMARY:ACTO CENTRAL POR EL 111°ANIVERSARIO DEL GENOCIDIO ARMENIO
DESCRIPTION:ACTO CENTRAL POR EL 111°ANIVERSARIO DEL GENOCIDIO ARMENIO \n\n\nEl encuentro tendrá lugar el viernes 24 de abril a las 19:00 h\, en el Memorial “No Me\nOlvides” (Dorrego y el río\, Rosario). \nEn el marco de esta conmemoración\, se realizará el estreno del microdocumental “Del Ararat al\nParaná: Memorias Infinitas”. Esta producción audiovisual recoge testimonios de descendientes de\nsobrevivientes que llegaron a nuestra ciudad. Fueron esos sobrevivientes quienes impulsaron la\nmemoria colectiva sobre la historia del pueblo armenio en Rosario; ellos mantuvieron una lealtad y un\ncariño especial por esta tierra que les dio la posibilidad de vivir libremente.
URL:https://iara-argentina.com/evento/acto-central-por-el-111aniversario-del-genocidio-armenio/
LOCATION:Memorial «No me Olvides»\, Dorrego y el río\, Rosario\, Argentina
CATEGORIES:Acto
ATTACH;FMTTYPE=image/jpeg:https://iara-argentina.com/wp-content/uploads/2026/04/WhatsApp-Image-2026-04-13-at-15.06.21.jpeg
END:VEVENT
BEGIN:VEVENT
DTSTART;TZID=America/Argentina/Buenos_Aires:20260424T190000
DTEND;TZID=America/Argentina/Buenos_Aires:20260424T190000
DTSTAMP:20260424T130815
CREATED:20260421T030120Z
LAST-MODIFIED:20260421T030148Z
UID:20018-1777057200-1777057200@iara-argentina.com
SUMMARY:MARCHA A 111 AÑOS DEL GENOCIDIO ARMENIO
DESCRIPTION:Marcha a 111 años del Genocidio Armenio \nEl próximo 24 de abril se cumplen 111 años del genocidio en el que fueron asesinados más de 1.500.000 armenios. A mas de un siglo\, Turquia lo continúa negándo. \nHace apenas tres años\, el pueblo armenio de Artsaj fue víctima de una limpieza étnica a manos de Azerbaiyán y Turquía. Actualmente\, permanecen presos en las cárceles de Baku los principales dirigentes de Artsaj. \nPor esto\, a 111 años del 24 de abril de 1915\, marchamos para exigir el reconocimiento y reparación del genocidio armenio\, por la memoria\, la verdad y la justicia\, y por la libertad a los presos políticos de Artsaj. \n📅 El próximo 24 de abril a las 19hs en Facultad de Derecho para marchar hacia la Residencia del Embajador de Turquía. \n 
URL:https://iara-argentina.com/evento/marcha-a-111-anos-del-genocidio-armenio/
LOCATION:Facultad de Derecho\, Av. Figueroa Alcorta 2263\, Ciudad Autónoma de Buenos Aires\, 1428\, Argentina
CATEGORIES:Acto
ATTACH;FMTTYPE=image/jpeg:https://iara-argentina.com/wp-content/uploads/2026/04/WhatsApp-Image-2026-04-21-at-00.01.01.jpeg
END:VEVENT
BEGIN:VEVENT
DTSTART;TZID=America/Argentina/Buenos_Aires:20260425T201500
DTEND;TZID=America/Argentina/Buenos_Aires:20260425T201500
DTSTAMP:20260424T130815
CREATED:20260413T235243Z
LAST-MODIFIED:20260413T235243Z
UID:19983-1777148100-1777148100@iara-argentina.com
SUMMARY:CICLO DE CINE ARMENIO “MI DULCE TIERRA” UN FILM DE SAREEN HAIRABEDIAN
DESCRIPTION:CICLO DE CINE ARMENIO “MI DULCE TIERRA” UN FILM DE SAREEN HAIRABEDIAN \nSábado 25 de abril a las 20:15hs. \nUGAB Buenos Aires- Armenia 1322\, Palermo \, CABA \nProyección en idioma armenio con subtitúlos en español \nEntrada libre y gratuita
URL:https://iara-argentina.com/evento/ciclo-de-cine-armenio-mi-dulce-tierra-un-film-de-sareen-hairabedian/
LOCATION:UGAB\, Armenia 1322\, Palermo\, CABA\, Argentina
CATEGORIES:Cultura
ATTACH;FMTTYPE=image/jpeg:https://iara-argentina.com/wp-content/uploads/2026/04/WhatsApp-Image-2026-04-13-at-15.18.13-1.jpeg
END:VEVENT
BEGIN:VEVENT
DTSTART;TZID=America/Argentina/Buenos_Aires:20260427T144500
DTEND;TZID=America/Argentina/Buenos_Aires:20260427T144500
DTSTAMP:20260424T130815
CREATED:20260411T044147Z
LAST-MODIFIED:20260411T044147Z
UID:19919-1777301100-1777301100@iara-argentina.com
SUMMARY:111° Aniversario :Conmemoración del Genocidio Armenio
DESCRIPTION:
URL:https://iara-argentina.com/evento/111-aniversario-conmemoracion-del-genocidio-armenio/
LOCATION:Vicente López\, Juan Carlos Cruz e Hipólito Yrigoyen\, Provincia de Buenos Aires\, B1638
CATEGORIES:Acto
ATTACH;FMTTYPE=image/jpeg:https://iara-argentina.com/wp-content/uploads/2026/04/WhatsApp-Image-2026-04-10-at-20.31.17.jpeg
END:VEVENT
BEGIN:VEVENT
DTSTART;TZID=America/Argentina/Buenos_Aires:20260430T090000
DTEND;TZID=America/Argentina/Buenos_Aires:20260430T150000
DTSTAMP:20260424T130815
CREATED:20260420T181626Z
LAST-MODIFIED:20260420T181626Z
UID:20006-1777539600-1777561200@iara-argentina.com
SUMMARY:CAMPAÑA DE DONACIÓN DE SANGRE DE H.O.M. POR EL HOSPITAL GARRAHAN
DESCRIPTION:CAMPAÑA DE DONACIÓN DE SANGRE DE H.O.M. POR EL HOSPITAL GARRAHAN \n🤍 En conmemoración del Genocidio Armenio\, y en agradecimiento a la Argentina\, que recibió con generosidad a los sobrevivientes y descendientes del pueblo armenio. \nEl jueves 30 de abril se llevará a cabo la tradicional Campaña de Donación de Sangre de HOM para el Banco de Sangre del Hospital de Pediatría Garrahan. 🩸 \nEl evento\, organizado por la Comisión Regional Sudamericana de HOM\, se desarrollará de 9 a 15 hs. en la sede de la Asociación Cultural Armenia (Armenia 1366\, C.A.B.A.). 🗓️📌 \n➡️ Asistir previa reserva de turno en garrahan.turnosapp.com y allí presionar en “Mi turno” y seguir las indicaciones. Seleccionar la campaña señalada como HOM – Asociación Cultural Armenia (30/04/2026). ✔️ \n♦️IMPORTANTE♦️ No se atenderán donantes espontáneos.\nPara saber si estás en condiciones de donar: www.garrahan.gov.ar/ser-donante \nTiempo que debe pasar entre donación y donación: 6 meses mujeres / 4 meses hombres.
URL:https://iara-argentina.com/evento/campana-de-donacion-de-sangre-de-h-o-m-por-el-hospital-garrahan-2/
LOCATION:Asociacion Cultural Armenia\, Armenia1366\, CABA\, Argentina
CATEGORIES:Campaña
ATTACH;FMTTYPE=image/jpeg:https://iara-argentina.com/wp-content/uploads/2026/04/WhatsApp-Image-2026-04-01-at-12.54.15.jpeg
END:VEVENT
BEGIN:VEVENT
DTSTART;TZID=America/Argentina/Buenos_Aires:20260503T190000
DTEND;TZID=America/Argentina/Buenos_Aires:20260503T190000
DTSTAMP:20260424T130815
CREATED:20260421T024016Z
LAST-MODIFIED:20260421T024016Z
UID:20012-1777834800-1777834800@iara-argentina.com
SUMMARY:"¡Parev!" Obra Teatral De Pablo Mascareño
DESCRIPTION:Se estrena «¡Parev!»\, una bellísima obra que\, a través del vínculo entrañable entre una abuela armenia y su nieta\, va en busca de la historia profunda y de los recuerdos\, tradiciones\, aromas y sabores que llevamos dentro\, acompañados por aquellas melodías que perduran en la memoria de todos; pasando de los sonidos de la Armenia Histórica hasta la fascinación por Carlos Gardel. \nDesde el 3 de mayo\, los domingos a las 19 horas en el Centro Cultural de la Cooperación (Av. Corrientes 1543). \nPara la comunidad armenia  contaremos con entradas con descuento. \nLes agradecemos que cursen sus reservas (individuales o grupales) a través del mail pablodmascareno@gmail.com o del teléfono (011) 4176-8244 indicando sus datos de contacto. Los cupos son limitados. Los esperamos!
URL:https://iara-argentina.com/evento/parev-obra-teatral-de-pablo-mascareno/
LOCATION:Centro Cultural de la Cooperación\, Av. Corrientes 1543\, Ciudad Autónoma de Buenos Aires\, 1428\, Argentina
CATEGORIES:Cultura
ATTACH;FMTTYPE=image/jpeg:https://iara-argentina.com/wp-content/uploads/2026/04/WhatsApp-Image-2026-04-20-at-19.38.10.jpeg
END:VEVENT
BEGIN:VEVENT
DTSTART;TZID=America/Argentina/Buenos_Aires:20260504T190000
DTEND;TZID=America/Argentina/Buenos_Aires:20260504T200000
DTSTAMP:20260424T130815
CREATED:20260412T013943Z
LAST-MODIFIED:20260413T030508Z
UID:19961-1777921200-1777924800@iara-argentina.com
SUMMARY:Presentación del libro “ Recuerdos de Marash. Vida Armenia y ruptura genocida”
DESCRIPTION:Presentación del libro “ Recuerdos de Marash. Vida Armenia y ruptura genocida”\, el 4 de mayo a las 19 en la feria del libro. En el pabellón amarillo sala Gorostiza.
URL:https://iara-argentina.com/evento/presentacion-del-libro-recuerdos-de-marash-vida-armenia-y-ruptura-genocida/
LOCATION:Feria de Libros\, 📍 Av. Sarmiento 2704 📍 Av. Cerviño 4474 📍 Juncal 4431 📍 Av. Santa Fe 4201\, Buenos Aires\, CABA\, Argentina
CATEGORIES:Cultura
ATTACH;FMTTYPE=image/jpeg:https://iara-argentina.com/wp-content/uploads/2026/04/WhatsApp-Image-2026-04-11-at-22.05.30.jpeg
END:VEVENT
END:VCALENDAR