BEGIN:VCALENDAR
VERSION:2.0
PRODID:-//IARA - ECPv6.1.4//NONSGML v1.0//EN
CALSCALE:GREGORIAN
METHOD:PUBLISH
X-ORIGINAL-URL:https://iara-argentina.com
X-WR-CALDESC:Eventos para IARA
REFRESH-INTERVAL;VALUE=DURATION:PT1H
X-Robots-Tag:noindex
X-PUBLISHED-TTL:PT1H
BEGIN:VTIMEZONE
TZID:America/Argentina/Buenos_Aires
BEGIN:STANDARD
TZOFFSETFROM:-0300
TZOFFSETTO:-0300
TZNAME:-03
DTSTART:20260101T000000
END:STANDARD
END:VTIMEZONE
BEGIN:VEVENT
DTSTART;VALUE=DATE:20260420
DTEND;VALUE=DATE:20260508
DTSTAMP:20260424T110526
CREATED:20260411T203016Z
LAST-MODIFIED:20260411T203016Z
UID:19931-1776643200-1778198399@iara-argentina.com
SUMMARY:ACTIVIDADES POR EL 111° ANIVERSARIO DEL GENOCIDIO ARMENIO . COLECTIVIDAD ARMENIA DE CORDOBA
DESCRIPTION:
URL:https://iara-argentina.com/evento/actividades-por-el-111-aniversario-del-genocidio-armenio-colectividad-armenia-de-cordoba/
LOCATION:CORDOBA\, Córdoba\, Córdoba
CATEGORIES:Acto
ATTACH;FMTTYPE=image/jpeg:https://iara-argentina.com/wp-content/uploads/2026/04/WhatsApp-Image-2026-04-11-at-16.51.42.jpeg
END:VEVENT
BEGIN:VEVENT
DTSTART;TZID=America/Argentina/Buenos_Aires:20260427T144500
DTEND;TZID=America/Argentina/Buenos_Aires:20260427T144500
DTSTAMP:20260424T110526
CREATED:20260411T044147Z
LAST-MODIFIED:20260411T044147Z
UID:19919-1777301100-1777301100@iara-argentina.com
SUMMARY:111° Aniversario :Conmemoración del Genocidio Armenio
DESCRIPTION:
URL:https://iara-argentina.com/evento/111-aniversario-conmemoracion-del-genocidio-armenio/
LOCATION:Vicente López\, Juan Carlos Cruz e Hipólito Yrigoyen\, Provincia de Buenos Aires\, B1638
CATEGORIES:Acto
ATTACH;FMTTYPE=image/jpeg:https://iara-argentina.com/wp-content/uploads/2026/04/WhatsApp-Image-2026-04-10-at-20.31.17.jpeg
END:VEVENT
END:VCALENDAR